BEGIN:VCALENDAR
VERSION:2.0
PRODID:-//hacksw/handcal//NONSGML v1.0//EN
BEGIN:VEVENT
SUMMARY:PAS COURS : Jour ferie
UID:10518187-2d66-47f8-9490-c27cd26dfb34
DTSTART:20260405T220000Z
DTEND:20260406T220000Z
LOCATION:Localisation   
CATEGORIES:Sportif
STATUS:
URL;VALUE=URI:https://bscjudo.sportsregions.fr/evenements/2026/04/06/pas-cours-jour-ferie-2431632
END:VEVENT
END:VCALENDAR
